BEGIN:VCALENDAR
VERSION:2.0
PRODID:-//NeoGen Plasma - ECPv6.15.18//NONSGML v1.0//EN
CALSCALE:GREGORIAN
METHOD:PUBLISH
X-WR-CALNAME:NeoGen Plasma
X-ORIGINAL-URL:https://www.neogenplasma.co.uk
X-WR-CALDESC:Events for NeoGen Plasma
REFRESH-INTERVAL;VALUE=DURATION:PT1H
X-Robots-Tag:noindex
X-PUBLISHED-TTL:PT1H
BEGIN:VTIMEZONE
TZID:UTC
BEGIN:STANDARD
TZOFFSETFROM:+0000
TZOFFSETTO:+0000
TZNAME:UTC
DTSTART:20250101T000000
END:STANDARD
END:VTIMEZONE
BEGIN:VEVENT
DTSTART;VALUE=DATE:20260508
DTEND;VALUE=DATE:20260510
DTSTAMP:20260424T123047
CREATED:20260407T141852Z
LAST-MODIFIED:20260408T073143Z
UID:803158-1778198400-1778371199@www.neogenplasma.co.uk
SUMMARY:Aesthetic Medicine London 2026
DESCRIPTION:Visit us on stand D3 to see NeoGen in action and speak to our team.\nJoin us at Aesthetic Medicine London 2026 to experience NeoGen nitrogen plasma technology in action. Designed for clinicians who want to deliver transformative\, evidence-based skin regeneration\, NeoGen enables you to treat multiple indications with a single\, versatile platform. \nUsing controlled thermal energy\, NeoGen works throughout the skin’s layers to tighten\, resurface and regenerate—without creating an open wound. The result is a powerful combination of visible outcomes and minimal downtime\, making it an increasingly in -demand option for both practitioners and patients. \nVisit our stand to explore real clinical results\, understand how the technology works\, and see how NeoGen can help you grow your clinic with a treatment patients actively seek out.
URL:https://www.neogenplasma.co.uk/event/aesthetic-medicine-london-2026/
LOCATION:Olympia London\, Hammersmith Road\, London\, W14 8UX\, United Kingdom
ATTACH;FMTTYPE=image/jpeg:https://www.neogenplasma.co.uk/wp-content/uploads/2026/04/AML-thumb-2.jpg
END:VEVENT
BEGIN:VEVENT
DTSTART;VALUE=DATE:20260928
DTEND;VALUE=DATE:20260929
DTSTAMP:20260424T123047
CREATED:20260401T134444Z
LAST-MODIFIED:20260424T111232Z
UID:803141-1790553600-1790639999@www.neogenplasma.co.uk
SUMMARY:NeoGen Global Summit
DESCRIPTION:NeoGen Summit: Advancing the future of nitrogen plasma skin regeneration\nTaking place on Monday 28th September at the Royal Society of Medicine\, the summit will explore clinical insights\, emerging research\, hear from the experts and the evolving role of plasma-based skin regeneration in modern aesthetic medicine and dermatology. \n  \n\nWhere to stay\nMandeville Hotel\nA limited number of rooms have been reserved at a preferential rate for summit delegates at The Mandeville Hotel\, London. You can access this rate via the link below.\nWhile we are pleased to share this option for your convenience\, please note that accommodation arrangements are made directly with the hotel. We are not responsible for the services provided or for any issues that may arise during your stay.\n\nBook a room in the Mandeville Hotel\n\nOther nearby hotels \n\nThe BoTree London\, Curio Collection by Hilton \nThe Langham\, London | 5-Star Luxury Hotel in West End London \n5-Star Luxury Hotel in Mayfair | Mandarin Oriental\, Mayfair \nClaridge’s: Luxury Hotel In The Heart of Mayfair\, London
URL:https://www.neogenplasma.co.uk/event/neogen-global-summit/
LOCATION:Royal Society of Medicine\, 1 Wimpole St\, London\, United Kingdom
ATTACH;FMTTYPE=image/jpeg:https://www.neogenplasma.co.uk/wp-content/uploads/2026/04/Thumb_v3.jpg
END:VEVENT
END:VCALENDAR