BEGIN:VCALENDAR
VERSION:2.0
PRODID:-//NeoGen Plasma - ECPv6.15.18//NONSGML v1.0//EN
CALSCALE:GREGORIAN
METHOD:PUBLISH
X-WR-CALNAME:NeoGen Plasma
X-ORIGINAL-URL:https://www.neogenplasma.co.uk
X-WR-CALDESC:Events for NeoGen Plasma
REFRESH-INTERVAL;VALUE=DURATION:PT1H
X-Robots-Tag:noindex
X-PUBLISHED-TTL:PT1H
BEGIN:VTIMEZONE
TZID:UTC
BEGIN:STANDARD
TZOFFSETFROM:+0000
TZOFFSETTO:+0000
TZNAME:UTC
DTSTART:20250101T000000
END:STANDARD
END:VTIMEZONE
BEGIN:VEVENT
DTSTART;VALUE=DATE:20260326
DTEND;VALUE=DATE:20260329
DTSTAMP:20260424T155343
CREATED:20260318T160250Z
LAST-MODIFIED:20260318T160401Z
UID:803019-1774483200-1774742399@www.neogenplasma.co.uk
SUMMARY:AMWC Monaco
DESCRIPTION:Visit us at Booth G21\nJoin the NeoGen team at AMWC 2026 in Monaco to discover how nitrogen plasma technology is redefining skin regeneration. Developed by pioneers of plasma-based treatments\, NeoGen delivers controlled thermal energy that tightens\, resurfaces and regenerates the skin—without creating an open wound. \nWith more than 300\,000 treatments performed worldwide\, NeoGen has become one of the most exciting technologies in modern aesthetic medicine. Clinicians use the platform to treat a wide range of aesthetic and dermatological concerns\, including skin laxity\, wrinkles\, acne scarring and periorbital rejuvenation. \nVisit us at Booth G21 to see the device in action\, explore clinical results\, and speak directly with our team about how NeoGen can help expand treatment offerings\, improve patient outcomes\, and support sustainable growth within your clinic. \nVisit the NeoGen team at Booth G21 to see the technology in action and speak with our experts.
URL:https://www.neogenplasma.co.uk/event/amwc-monaco/
LOCATION:The Grimaldi Forum\, Monte-Carlo\, Monaco
ATTACH;FMTTYPE=image/jpeg:https://www.neogenplasma.co.uk/wp-content/uploads/2026/03/pexels-tydegidts-3958980.jpg
END:VEVENT
BEGIN:VEVENT
DTSTART;VALUE=DATE:20260313
DTEND;VALUE=DATE:20260315
DTSTAMP:20260424T155343
CREATED:20260309T112405Z
LAST-MODIFIED:20260311T160754Z
UID:802986-1773360000-1773532799@www.neogenplasma.co.uk
SUMMARY:ACE 2026 | London
DESCRIPTION:Visit the NeoGen team at Booth F15\nTo see the technology in action and speak with our experts.\nThe Aesthetics Conference & Exhibition (ACE) is the UK’s leading event for medical aesthetics professionals\, bringing together clinicians\, industry experts and innovative technologies. \nVisit NeoGen at Booth F15 to explore the science behind nitrogen plasma skin regeneration. Our team will be demonstrating how NeoGen delivers deep dermal remodelling to tighten\, resurface and regenerate the skin — all while keeping the epidermis intact for faster recovery. \nWith over 300\,000 treatments performed worldwide and FDA-cleared indications across aesthetic and dermatological conditions\, NeoGen offers clinics a versatile platform for treating concerns ranging from skin laxity and wrinkles to acne scarring and skin lesions. \nStop by to see the technology up close\, speak with our experts and discover how NeoGen can help your clinic deliver transformative results while expanding treatment offerings and revenue opportunities.
URL:https://www.neogenplasma.co.uk/event/ace-2026-london/
LOCATION:Business Design Centre\, 52 Upper St\,\, London\, N1 0QH\, United Kingdom
ATTACH;FMTTYPE=image/jpeg:https://www.neogenplasma.co.uk/wp-content/uploads/2026/03/ACE.jpg
END:VEVENT
END:VCALENDAR